BEGIN:VCALENDAR
VERSION:2.0
PRODID:spatie/icalendar-generator
DESCRIPTION:Events from Essen für Alle
X-WR-CALDESC:Events from Essen für Alle
REFRESH-INTERVAL;VALUE=DURATION:PT1440M
X-PUBLISHED-TTL:PT1440M
BEGIN:VTIMEZONE
TZID:Etc/GMT+0
BEGIN:STANDARD
DTSTART:20290501T110000Z
TZOFFSETFROM:+0000
TZOFFSETTO:+0000
END:STANDARD
END:VTIMEZONE
BEGIN:VTIMEZONE
TZID:UTC
BEGIN:STANDARD
DTSTART:20250724T021922Z
TZOFFSETFROM:+0000
TZOFFSETTO:+0000
END:STANDARD
END:VTIMEZONE
BEGIN:VEVENT
UID:1993-8
DTSTAMP:20260420T021922Z
SUMMARY:Essensasugabe in Glarus
LOCATION:Essen für Alle Glarus
ORGANIZER;CN=Matthias Beeler:MAILTO:matthias.beeler@nyv.ch
RRULE:FREQ=WEEKLY;COUNT=0
DTSTART;TZID=Etc/GMT+0:20300126T110000
DTEND;TZID=Etc/GMT+0:20300126T120000
X-ALT-DESC;FMTTYPE=TEXT/HTML:
CATEGORIES:General
URL;VALUE=URI:https://www.essenfueralle.org/mc-events/essensasugabe-in-glar
 us/?mc_id=1993
METHOD:PUBLISH
END:VEVENT
END:VCALENDAR